Package: GSALightning Version: 1.38.0 Maintainer: Billy Heung Wing Chang MaintainerEmail: billyheungwing at gmail.com git_url: https://git.bioconductor.org/packages/GSALightning git_branch: RELEASE_3_22 git_last_commit: 504932d git_last_commit_date: 2025-10-29 10:29:22 -0400 (Wed, 29 Oct 2025)