Package: GRmetrics Version: 1.36.0 Command: /home/biocbuild/bbs-3.22-bioc/R/bin/R CMD build --keep-empty-dirs --no-resave-data --md5 GRmetrics StartedAt: 2025-11-11 18:05:20 -0500 (Tue, 11 Nov 2025) EndedAt: 2025-11-11 18:06:07 -0500 (Tue, 11 Nov 2025) EllapsedTime: 47.1 seconds RetCode: 0 Status: OK PackageFile: GRmetrics_1.36.0.tar.gz PackageFileSize: 1.922 MiB