Package: GRmetrics Version: 1.36.0 Command: /Library/Frameworks/R.framework/Resources/bin/R CMD INSTALL GRmetrics StartedAt: 2025-10-31 15:18:50 -0400 (Fri, 31 Oct 2025) EndedAt: 2025-10-31 15:18:59 -0400 (Fri, 31 Oct 2025) EllapsedTime: 9.1 seconds RetCode: 0 Status: OK