Package: GRmetrics Version: 1.36.0 Command: /Library/Frameworks/R.framework/Resources/bin/R CMD build --keep-empty-dirs --no-resave-data GRmetrics StartedAt: 2025-11-02 16:37:07 -0500 (Sun, 02 Nov 2025) EndedAt: 2025-11-02 16:37:28 -0500 (Sun, 02 Nov 2025) EllapsedTime: 20.2 seconds RetCode: 0 Status: OK PackageFile: GRmetrics_1.36.0.tar.gz PackageFileSize: 1.947 MiB