Package: GRmetrics Version: 1.36.0 Command: rm -rf GRmetrics.buildbin-libdir && mkdir GRmetrics.buildbin-libdir && /Users/biocbuild/BBS/utils/build-universal.sh GRmetrics_1.36.0.tar.gz /Library/Frameworks/R.framework/Resources/bin/R GRmetrics.buildbin-libdir StartedAt: 2025-11-04 23:06:03 -0500 (Tue, 04 Nov 2025) EndedAt: 2025-11-04 23:06:13 -0500 (Tue, 04 Nov 2025) EllapsedTime: 9.2 seconds RetCode: 0 Status: OK PackageFile: GRmetrics_1.36.0.tgz PackageFileSize: 2.014 MiB