Back to Multiple platform build/check report for BioC 3.22:   simplified   long
ABCDEF[G]HIJKLMNOPQRSTUVWXYZ

This page was generated on 2025-11-14 11:57 -0500 (Fri, 14 Nov 2025).

HostnameOSArch (*)R versionInstalled pkgs
nebbiolo2Linux (Ubuntu 24.04.3 LTS)x86_644.5.1 Patched (2025-08-23 r88802) -- "Great Square Root" 4903
taishanLinux (openEuler 24.03 LTS)aarch644.5.0 (2025-04-11) -- "How About a Twenty-Six" 4668
Click on any hostname to see more info about the system (e.g. compilers)      (*) as reported by 'uname -p', except on Windows and Mac OS X

All results for package GOstats


To the developers/maintainers of the GOstats package:
- Allow up to 24 hours (and sometimes 48 hours) for your latest push to git@git.bioconductor.org:packages/GOstats.git to reflect on this report. See Troubleshooting Build Report for more information.
- Use the following Renviron settings to reproduce errors and warnings.
- If 'R CMD check' started to fail recently on the Linux builder(s) over a missing dependency, add the missing dependency to 'Suggests:' in your DESCRIPTION file. See Renviron.bioc for more information.

raw results

Package 913/2361HostnameOS / ArchINSTALLBUILDCHECKBUILD BIN
GOstats 2.76.0  (landing page)
Bioconductor Package Maintainer
Snapshot Date: 2025-11-13 13:45 -0500 (Thu, 13 Nov 2025)
git_url: https://git.bioconductor.org/packages/GOstats
git_branch: RELEASE_3_22
git_last_commit: 7c7bec8
git_last_commit_date: 2025-10-29 09:55:01 -0500 (Wed, 29 Oct 2025)
nebbiolo2Linux (Ubuntu 24.04.3 LTS) / x86_64  OK    OK    OK  UNNEEDED, same version is already published
taishanLinux (openEuler 24.03 LTS) / aarch64  OK    ERROR  skipped



Results for Bioconductor software packages that depend directly on package GOstats

QUICK STATSOS / ArchINSTALLBUILDCHECKBUILD BIN
nebbiolo2Linux (Ubuntu 24.04.3 LTS) / x86_64
0111
0210
0136
taishanLinux (openEuler 24.03 LTS) / aarch64
0111
0210
0136
Package 1/12HostnameOS / ArchINSTALLBUILDCHECKBUILD BIN
affycoretools 1.82.0  (landing page)
James W. MacDonald
git_last_commit: c96a089
git_last_commit_date: 2025-10-29 09:57:11 -0500
nebbiolo2Linux (Ubuntu 24.04.3 LTS) / x86_64  OK    OK    OK  UNNEEDED, same version is already published
taishanLinux (openEuler 24.03 LTS) / aarch64  OK    OK    OK  
Package 2/12HostnameOS / ArchINSTALLBUILDCHECKBUILD BIN
attract 1.62.0  (landing page)
Samuel Zimmerman
git_last_commit: c4f9ff4
git_last_commit_date: 2025-10-29 10:05:14 -0500
nebbiolo2Linux (Ubuntu 24.04.3 LTS) / x86_64  OK    OK    OK  UNNEEDED, same version is already published
taishanLinux (openEuler 24.03 LTS) / aarch64  OK    OK    OK  
Package 3/12HostnameOS / ArchINSTALLBUILDCHECKBUILD BIN
categoryCompare 1.54.0  (landing page)
Robert M. Flight
git_last_commit: 3381da0
git_last_commit_date: 2025-10-29 10:11:00 -0500
nebbiolo2Linux (Ubuntu 24.04.3 LTS) / x86_64  OK    OK    OK  UNNEEDED, same version is already published
taishanLinux (openEuler 24.03 LTS) / aarch64  OK    OK    OK  
Package 4/12HostnameOS / ArchINSTALLBUILDCHECKBUILD BIN
GmicR 1.24.0  (landing page)
Richard Virgen-Slane
git_last_commit: a9a4b5a
git_last_commit_date: 2025-10-29 10:54:40 -0500
nebbiolo2Linux (Ubuntu 24.04.3 LTS) / x86_64  OK    OK    WARNINGS  UNNEEDED, same version is already published
taishanLinux (openEuler 24.03 LTS) / aarch64  OK    OK    WARNINGS  
Package 5/12HostnameOS / ArchINSTALLBUILDCHECKBUILD BIN
ideal 2.4.0  (landing page)
Federico Marini
git_last_commit: ed2684d
git_last_commit_date: 2025-10-29 10:38:28 -0500
nebbiolo2Linux (Ubuntu 24.04.3 LTS) / x86_64  OK    OK    OK  UNNEEDED, same version is already published
taishanLinux (openEuler 24.03 LTS) / aarch64  OK    OK    OK  
Package 6/12HostnameOS / ArchINSTALLBUILDCHECKBUILD BIN
MineICA 1.50.0  (landing page)
Anne Biton
git_last_commit: dc9c2eb
git_last_commit_date: 2025-10-29 10:13:40 -0500
nebbiolo2Linux (Ubuntu 24.04.3 LTS) / x86_64  OK    OK    ERROR  
taishanLinux (openEuler 24.03 LTS) / aarch64  OK    OK    ERROR  
Package 7/12HostnameOS / ArchINSTALLBUILDCHECKBUILD BIN
miRLAB 1.40.0  (landing page)
Thuc Duy Le
git_last_commit: d343103
git_last_commit_date: 2025-10-29 10:26:51 -0500
nebbiolo2Linux (Ubuntu 24.04.3 LTS) / x86_64  OK    OK    WARNINGS  UNNEEDED, same version is already published
taishanLinux (openEuler 24.03 LTS) / aarch64  OK    OK    WARNINGS  
Package 8/12HostnameOS / ArchINSTALLBUILDCHECKBUILD BIN
netZooR 1.14.0  (landing page)
Marouen Ben Guebila
git_last_commit: 5f3b18e
git_last_commit_date: 2025-10-29 11:14:04 -0500
nebbiolo2Linux (Ubuntu 24.04.3 LTS) / x86_64  ERROR    ERROR  skipped
taishanLinux (openEuler 24.03 LTS) / aarch64  ERROR    ERROR  skipped
Package 9/12HostnameOS / ArchINSTALLBUILDCHECKBUILD BIN
pcaExplorer 3.4.0  (landing page)
Federico Marini
git_last_commit: 5b76435
git_last_commit_date: 2025-10-29 10:31:39 -0500
nebbiolo2Linux (Ubuntu 24.04.3 LTS) / x86_64  OK    OK    OK  UNNEEDED, same version is already published
taishanLinux (openEuler 24.03 LTS) / aarch64  OK    OK    OK  
Package 10/12HostnameOS / ArchINSTALLBUILDCHECKBUILD BIN
ReportingTools 2.50.0  (landing page)
Jason A. Hackney , Gabriel Becker
git_last_commit: 9a53d36
git_last_commit_date: 2025-10-29 10:12:14 -0500
nebbiolo2Linux (Ubuntu 24.04.3 LTS) / x86_64  OK    OK    OK  UNNEEDED, same version is already published
taishanLinux (openEuler 24.03 LTS) / aarch64  OK    OK    OK  
Package 11/12HostnameOS / ArchINSTALLBUILDCHECKBUILD BIN
scTensor 2.20.0  (landing page)
Koki Tsuyuzaki
git_last_commit: 11f50bb
git_last_commit_date: 2025-10-29 10:49:00 -0500
nebbiolo2Linux (Ubuntu 24.04.3 LTS) / x86_64  OK    OK    WARNINGS  UNNEEDED, same version is already published
taishanLinux (openEuler 24.03 LTS) / aarch64  OK    OK    WARNINGS  
Package 12/12HostnameOS / ArchINSTALLBUILDCHECKBUILD BIN
SGCP 1.10.0  (landing page)
Niloofar AghaieAbiane
git_last_commit: d571adf
git_last_commit_date: 2025-10-29 11:20:24 -0500
nebbiolo2Linux (Ubuntu 24.04.3 LTS) / x86_64  OK    ERROR  skipped
taishanLinux (openEuler 24.03 LTS) / aarch64  OK    ERROR  skipped