Package: GOpro Version: 1.36.0 Command: /home/biocbuild/bbs-3.22-bioc/R/bin/R CMD INSTALL GOpro StartedAt: 2025-11-06 15:46:01 -0500 (Thu, 06 Nov 2025) EndedAt: 2025-11-06 15:46:43 -0500 (Thu, 06 Nov 2025) EllapsedTime: 41.9 seconds RetCode: 0 Status: OK