Package: GOpro Version: 1.36.0 Command: /home/biocbuild/bbs-3.22-bioc/R/bin/R CMD build --keep-empty-dirs --no-resave-data --md5 GOpro StartedAt: 2025-11-06 17:56:53 -0500 (Thu, 06 Nov 2025) EndedAt: 2025-11-06 17:58:03 -0500 (Thu, 06 Nov 2025) EllapsedTime: 70.1 seconds RetCode: 0 Status: OK PackageFile: GOpro_1.36.0.tar.gz PackageFileSize: 1.135 MiB