Package: GOfuncR Version: 1.30.0 Command: /home/biocbuild/R/R/bin/R CMD INSTALL GOfuncR StartedAt: 2025-11-13 21:42:52 -0000 (Thu, 13 Nov 2025) EndedAt: 2025-11-13 21:45:12 -0000 (Thu, 13 Nov 2025) EllapsedTime: 139.8 seconds RetCode: 0 Status: OK