Package: GOfuncR Version: 1.30.0 Command: /home/biocbuild/R/R/bin/R CMD build --keep-empty-dirs --no-resave-data GOfuncR StartedAt: 2025-11-14 02:16:50 -0000 (Fri, 14 Nov 2025) EndedAt: 2025-11-14 02:22:15 -0000 (Fri, 14 Nov 2025) EllapsedTime: 325.1 seconds RetCode: 0 Status: OK PackageFile: GOfuncR_1.30.0.tar.gz PackageFileSize: 4.871 MiB