Package: GOfuncR Version: 1.30.0 Command: /home/biocbuild/bbs-3.22-bioc/R/bin/R CMD check --install=check:GOfuncR.install-out.txt --library=/home/biocbuild/bbs-3.22-bioc/R/site-library --timings GOfuncR_1.30.0.tar.gz StartedAt: 2025-11-14 00:17:32 -0500 (Fri, 14 Nov 2025) EndedAt: 2025-11-14 00:24:17 -0500 (Fri, 14 Nov 2025) EllapsedTime: 404.4 seconds RetCode: 0 Status: OK CheckDir: GOfuncR.Rcheck Warnings: 0