Package: GOfuncR Version: 1.28.0 Command: /home/biocbuild/bbs-3.21-bioc/R/bin/R CMD INSTALL GOfuncR StartedAt: 2025-10-15 15:33:27 -0400 (Wed, 15 Oct 2025) EndedAt: 2025-10-15 15:35:05 -0400 (Wed, 15 Oct 2025) EllapsedTime: 98.8 seconds RetCode: 0 Status: OK