Package: GOfuncR Version: 1.28.0 Command: /home/biocbuild/bbs-3.21-bioc/R/bin/R CMD build --keep-empty-dirs --no-resave-data GOfuncR StartedAt: 2025-10-15 17:48:25 -0400 (Wed, 15 Oct 2025) EndedAt: 2025-10-15 17:52:05 -0400 (Wed, 15 Oct 2025) EllapsedTime: 220.1 seconds RetCode: 0 Status: OK PackageFile: GOfuncR_1.28.0.tar.gz PackageFileSize: 5.193 MiB