Package: GOfuncR Version: 1.28.0 Command: /home/biocbuild/R/R/bin/R CMD INSTALL GOfuncR StartedAt: 2025-09-29 20:49:45 -0000 (Mon, 29 Sep 2025) EndedAt: 2025-09-29 20:52:05 -0000 (Mon, 29 Sep 2025) EllapsedTime: 140.6 seconds RetCode: 0 Status: OK