Package: GOfuncR Version: 1.28.0 Command: /Library/Frameworks/R.framework/Resources/bin/R CMD INSTALL GOfuncR StartedAt: 2025-10-13 17:00:46 -0400 (Mon, 13 Oct 2025) EndedAt: 2025-10-13 17:02:34 -0400 (Mon, 13 Oct 2025) EllapsedTime: 108.2 seconds RetCode: 0 Status: OK