Package: GOfuncR Version: 1.28.0 Command: /Library/Frameworks/R.framework/Resources/bin/R CMD build --keep-empty-dirs --no-resave-data GOfuncR StartedAt: 2025-10-14 01:30:33 -0400 (Tue, 14 Oct 2025) EndedAt: 2025-10-14 01:35:44 -0400 (Tue, 14 Oct 2025) EllapsedTime: 311.9 seconds RetCode: 0 Status: OK PackageFile: GOfuncR_1.28.0.tar.gz PackageFileSize: 5.21 MiB