Package: GOexpress Version: 1.44.0 Command: /home/biocbuild/bbs-3.22-bioc/R/bin/R CMD INSTALL GOexpress StartedAt: 2025-11-14 15:28:37 -0500 (Fri, 14 Nov 2025) EndedAt: 2025-11-14 15:28:56 -0500 (Fri, 14 Nov 2025) EllapsedTime: 19.3 seconds RetCode: 0 Status: OK