Package: GOexpress Version: 1.44.0 Command: /home/biocbuild/bbs-3.22-bioc/R/bin/R CMD build --keep-empty-dirs --no-resave-data --md5 GOexpress StartedAt: 2025-11-14 17:59:55 -0500 (Fri, 14 Nov 2025) EndedAt: 2025-11-14 18:00:33 -0500 (Fri, 14 Nov 2025) EllapsedTime: 38.0 seconds RetCode: 0 Status: OK PackageFile: GOexpress_1.44.0.tar.gz PackageFileSize: 2.347 MiB