Package: GOTHiC Version: 1.46.0 Command: /home/biocbuild/bbs-3.22-bioc/R/bin/R CMD INSTALL GOTHiC StartedAt: 2025-11-11 15:56:01 -0500 (Tue, 11 Nov 2025) EndedAt: 2025-11-11 15:56:43 -0500 (Tue, 11 Nov 2025) EllapsedTime: 42.1 seconds RetCode: 0 Status: OK