Package: GOTHiC Version: 1.46.0 Command: /Library/Frameworks/R.framework/Resources/bin/R CMD INSTALL GOTHiC StartedAt: 2025-10-31 15:51:09 -0400 (Fri, 31 Oct 2025) EndedAt: 2025-10-31 15:52:03 -0400 (Fri, 31 Oct 2025) EllapsedTime: 53.9 seconds RetCode: 0 Status: OK