Package: GOTHiC Version: 1.46.0 Command: /Library/Frameworks/R.framework/Resources/bin/R CMD build --keep-empty-dirs --no-resave-data GOTHiC StartedAt: 2025-10-31 17:18:02 -0400 (Fri, 31 Oct 2025) EndedAt: 2025-10-31 17:18:49 -0400 (Fri, 31 Oct 2025) EllapsedTime: 46.9 seconds RetCode: 0 Status: OK PackageFile: GOTHiC_1.46.0.tar.gz PackageFileSize: 1.697 MiB