Package: GOTHiC Version: 1.44.0 Command: /home/biocbuild/R/R/bin/R CMD INSTALL GOTHiC StartedAt: 2025-10-09 21:08:44 -0000 (Thu, 09 Oct 2025) EndedAt: 2025-10-09 21:09:38 -0000 (Thu, 09 Oct 2025) EllapsedTime: 53.9 seconds RetCode: 0 Status: OK