Package: GOSemSim Version: 2.36.0 Command: /home/biocbuild/R/R/bin/R CMD INSTALL GOSemSim StartedAt: 2025-11-13 21:54:01 -0000 (Thu, 13 Nov 2025) EndedAt: 2025-11-13 21:54:33 -0000 (Thu, 13 Nov 2025) EllapsedTime: 32.5 seconds RetCode: 0 Status: OK