Package: GOSemSim Version: 2.36.0 Command: /home/biocbuild/R/R/bin/R CMD build --keep-empty-dirs --no-resave-data GOSemSim StartedAt: 2025-11-14 02:17:19 -0000 (Fri, 14 Nov 2025) EndedAt: 2025-11-14 02:17:53 -0000 (Fri, 14 Nov 2025) EllapsedTime: 34.0 seconds RetCode: 0 Status: OK PackageFile: GOSemSim_2.36.0.tar.gz PackageFileSize: 596.3 KiB