Package: GOSemSim Version: 2.36.0 Command: /home/biocbuild/bbs-3.22-bioc/R/bin/R CMD INSTALL GOSemSim StartedAt: 2025-11-11 15:43:23 -0500 (Tue, 11 Nov 2025) EndedAt: 2025-11-11 15:43:45 -0500 (Tue, 11 Nov 2025) EllapsedTime: 22.0 seconds RetCode: 0 Status: OK