Package: GOSemSim Version: 2.34.0 Command: /home/biocbuild/bbs-3.21-bioc/R/bin/R CMD build --keep-empty-dirs --no-resave-data GOSemSim StartedAt: 2025-10-05 17:49:56 -0400 (Sun, 05 Oct 2025) EndedAt: 2025-10-05 17:50:20 -0400 (Sun, 05 Oct 2025) EllapsedTime: 24.0 seconds RetCode: 0 Status: OK PackageFile: GOSemSim_2.34.0.tar.gz PackageFileSize: 594.7 KiB