Package: GOSemSim Version: 2.34.0 Command: rm -rf GOSemSim.buildbin-libdir && mkdir GOSemSim.buildbin-libdir && /Users/biocbuild/BBS/utils/build-universal.sh GOSemSim_2.34.0.tar.gz /Library/Frameworks/R.framework/Resources/bin/R GOSemSim.buildbin-libdir StartedAt: 2025-10-08 21:09:46 -0400 (Wed, 08 Oct 2025) EndedAt: 2025-10-08 21:10:17 -0400 (Wed, 08 Oct 2025) EllapsedTime: 30.9 seconds RetCode: 0 Status: OK PackageFile: GOSemSim_2.34.0.tgz PackageFileSize: 1.144 MiB