Package: GNOSIS Version: 1.8.0 Command: /home/biocbuild/bbs-3.22-bioc/R/bin/R CMD check --install=check:GNOSIS.install-out.txt --library=/home/biocbuild/bbs-3.22-bioc/R/site-library --timings GNOSIS_1.8.0.tar.gz StartedAt: 2025-11-14 00:16:36 -0500 (Fri, 14 Nov 2025) EndedAt: 2025-11-14 00:22:58 -0500 (Fri, 14 Nov 2025) EllapsedTime: 381.4 seconds RetCode: 0 Status: WARNINGS CheckDir: GNOSIS.Rcheck Warnings: 1