Package: GNOSIS Version: 1.8.0 Command: /home/biocbuild/bbs-3.22-bioc/R/bin/R CMD build --keep-empty-dirs --no-resave-data --md5 GNOSIS StartedAt: 2025-11-11 18:01:20 -0500 (Tue, 11 Nov 2025) EndedAt: 2025-11-11 18:02:40 -0500 (Tue, 11 Nov 2025) EllapsedTime: 80.0 seconds RetCode: 0 Status: OK PackageFile: GNOSIS_1.8.0.tar.gz PackageFileSize: 3.376 MiB