Package: GNOSIS Version: 1.8.0 Command: /Library/Frameworks/R.framework/Resources/bin/R CMD INSTALL GNOSIS StartedAt: 2025-10-30 15:38:27 -0400 (Thu, 30 Oct 2025) EndedAt: 2025-10-30 15:39:52 -0400 (Thu, 30 Oct 2025) EllapsedTime: 85.1 seconds RetCode: 0 Status: OK