Package: GNOSIS Version: 1.8.0 Command: rm -rf GNOSIS.buildbin-libdir && mkdir GNOSIS.buildbin-libdir && /Users/biocbuild/BBS/utils/build-universal.sh GNOSIS_1.8.0.tar.gz /Library/Frameworks/R.framework/Resources/bin/R GNOSIS.buildbin-libdir StartedAt: 2025-10-31 01:27:38 -0400 (Fri, 31 Oct 2025) EndedAt: 2025-10-31 01:29:06 -0400 (Fri, 31 Oct 2025) EllapsedTime: 87.6 seconds RetCode: 0 Status: OK PackageFile: GNOSIS_1.8.0.tgz PackageFileSize: 2.533 MiB