Package: GNOSIS Version: 1.6.0 Command: /home/biocbuild/R/R/bin/R CMD INSTALL GNOSIS StartedAt: 2025-09-25 21:01:19 -0000 (Thu, 25 Sep 2025) EndedAt: 2025-09-25 21:02:47 -0000 (Thu, 25 Sep 2025) EllapsedTime: 87.8 seconds RetCode: 0 Status: OK