Package: GNET2 Version: 1.26.0 Command: /home/biocbuild/bbs-3.22-bioc/R/bin/R CMD INSTALL GNET2 StartedAt: 2025-11-11 15:22:35 -0500 (Tue, 11 Nov 2025) EndedAt: 2025-11-11 15:23:09 -0500 (Tue, 11 Nov 2025) EllapsedTime: 33.5 seconds RetCode: 0 Status: OK