Package: GNET2 Version: 1.24.0 Command: /home/biocbuild/R/R/bin/R CMD check --install=check:GNET2.install-out.txt --library=/home/biocbuild/R/R/site-library --no-vignettes --timings GNET2_1.24.0.tar.gz StartedAt: 2025-10-10 09:33:30 -0000 (Fri, 10 Oct 2025) EndedAt: 2025-10-10 09:37:44 -0000 (Fri, 10 Oct 2025) EllapsedTime: 254.1 seconds RetCode: 0 Status: OK CheckDir: GNET2.Rcheck Warnings: 0