Package: GLAD Version: 2.74.0 Command: /Library/Frameworks/R.framework/Resources/bin/R CMD INSTALL GLAD StartedAt: 2025-11-03 15:09:24 -0500 (Mon, 03 Nov 2025) EndedAt: 2025-11-03 15:10:09 -0500 (Mon, 03 Nov 2025) EllapsedTime: 44.9 seconds RetCode: 0 Status: OK