Package: GLAD Version: 2.74.0 Command: /Library/Frameworks/R.framework/Resources/bin/R CMD build --keep-empty-dirs --no-resave-data GLAD StartedAt: 2025-11-03 17:12:23 -0500 (Mon, 03 Nov 2025) EndedAt: 2025-11-03 17:12:55 -0500 (Mon, 03 Nov 2025) EllapsedTime: 32.0 seconds RetCode: 0 Status: OK PackageFile: GLAD_2.74.0.tar.gz PackageFileSize: 1.302 MiB