Package: GLAD Version: 2.74.0 Command: rm -rf GLAD.buildbin-libdir && mkdir GLAD.buildbin-libdir && /Users/biocbuild/BBS/utils/build-universal.sh GLAD_2.74.0.tar.gz /Library/Frameworks/R.framework/Resources/bin/R GLAD.buildbin-libdir StartedAt: 2025-11-04 01:43:01 -0500 (Tue, 04 Nov 2025) EndedAt: 2025-11-04 01:43:33 -0500 (Tue, 04 Nov 2025) EllapsedTime: 32.4 seconds RetCode: 0 Status: OK PackageFile: GLAD_2.74.0.tgz PackageFileSize: 1.458 MiB