Package: GLAD Version: 2.72.0 Command: /home/biocbuild/R/R/bin/R CMD build --keep-empty-dirs --no-resave-data GLAD StartedAt: 2025-10-14 01:15:46 -0000 (Tue, 14 Oct 2025) EndedAt: 2025-10-14 01:16:10 -0000 (Tue, 14 Oct 2025) EllapsedTime: 24.0 seconds RetCode: 0 Status: OK PackageFile: GLAD_2.72.0.tar.gz PackageFileSize: 1.295 MiB