Package: GIGSEA Version: 1.28.0 Command: /home/biocbuild/bbs-3.22-bioc/R/bin/R CMD build --keep-empty-dirs --no-resave-data --md5 GIGSEA StartedAt: 2025-11-13 17:55:52 -0500 (Thu, 13 Nov 2025) EndedAt: 2025-11-13 17:59:24 -0500 (Thu, 13 Nov 2025) EllapsedTime: 212.2 seconds RetCode: 0 Status: OK PackageFile: GIGSEA_1.28.0.tar.gz PackageFileSize: 1.327 MiB