Package: GIGSEA Version: 1.28.0 Command: rm -rf GIGSEA.buildbin-libdir && mkdir GIGSEA.buildbin-libdir && /Users/biocbuild/BBS/utils/build-universal.sh GIGSEA_1.28.0.tar.gz /Library/Frameworks/R.framework/Resources/bin/R GIGSEA.buildbin-libdir StartedAt: 2025-11-09 23:10:01 -0500 (Sun, 09 Nov 2025) EndedAt: 2025-11-09 23:10:04 -0500 (Sun, 09 Nov 2025) EllapsedTime: 3.1 seconds RetCode: 0 Status: OK PackageFile: GIGSEA_1.28.0.tgz PackageFileSize: 1.726 MiB