Package: GGPA Version: 1.22.0 Command: /home/biocbuild/bbs-3.22-bioc/R/bin/R CMD INSTALL GGPA StartedAt: 2025-11-02 15:16:27 -0500 (Sun, 02 Nov 2025) EndedAt: 2025-11-02 15:17:10 -0500 (Sun, 02 Nov 2025) EllapsedTime: 43.5 seconds RetCode: 0 Status: OK