Package: GGPA Version: 1.22.0 Command: /home/biocbuild/bbs-3.22-bioc/R/bin/R CMD build --keep-empty-dirs --no-resave-data --md5 GGPA StartedAt: 2025-11-02 18:06:50 -0500 (Sun, 02 Nov 2025) EndedAt: 2025-11-02 18:07:55 -0500 (Sun, 02 Nov 2025) EllapsedTime: 65.1 seconds RetCode: 0 Status: OK PackageFile: GGPA_1.22.0.tar.gz PackageFileSize: 4.713 MiB