Package: GEWIST Version: 1.54.0 Command: /home/biocbuild/bbs-3.22-bioc/R/bin/R CMD build --keep-empty-dirs --no-resave-data --md5 GEWIST StartedAt: 2025-11-11 17:56:04 -0500 (Tue, 11 Nov 2025) EndedAt: 2025-11-11 17:57:27 -0500 (Tue, 11 Nov 2025) EllapsedTime: 83.1 seconds RetCode: 0 Status: OK PackageFile: GEWIST_1.54.0.tar.gz PackageFileSize: 389 KiB