Package: GEWIST Version: 1.52.0 Command: /home/biocbuild/R/R/bin/R CMD INSTALL GEWIST StartedAt: 2025-10-13 20:20:55 -0000 (Mon, 13 Oct 2025) EndedAt: 2025-10-13 20:21:14 -0000 (Mon, 13 Oct 2025) EllapsedTime: 18.8 seconds RetCode: 0 Status: OK