Package: GEWIST Version: 1.52.0 Command: /home/biocbuild/R/R/bin/R CMD build --keep-empty-dirs --no-resave-data GEWIST StartedAt: 2025-10-14 01:11:31 -0000 (Tue, 14 Oct 2025) EndedAt: 2025-10-14 01:14:46 -0000 (Tue, 14 Oct 2025) EllapsedTime: 195.0 seconds RetCode: 0 Status: OK PackageFile: GEWIST_1.52.0.tar.gz PackageFileSize: 377.5 KiB