Package: GEOsubmission Version: 1.62.0 Command: /home/biocbuild/R/R/bin/R CMD INSTALL GEOsubmission StartedAt: 2025-11-10 21:18:27 -0000 (Mon, 10 Nov 2025) EndedAt: 2025-11-10 21:18:31 -0000 (Mon, 10 Nov 2025) EllapsedTime: 4.3 seconds RetCode: 0 Status: OK