Package: GEOsubmission Version: 1.62.0 Command: /home/biocbuild/R/R/bin/R CMD check --install=check:GEOsubmission.install-out.txt --library=/home/biocbuild/R/R/site-library --no-vignettes --timings GEOsubmission_1.62.0.tar.gz StartedAt: 2025-11-11 10:10:53 -0000 (Tue, 11 Nov 2025) EndedAt: 2025-11-11 10:11:23 -0000 (Tue, 11 Nov 2025) EllapsedTime: 30.0 seconds RetCode: 0 Status: OK CheckDir: GEOsubmission.Rcheck Warnings: 0