Package: GEOsubmission Version: 1.62.0 Command: /home/biocbuild/R/R/bin/R CMD build --keep-empty-dirs --no-resave-data GEOsubmission StartedAt: 2025-11-11 02:00:52 -0000 (Tue, 11 Nov 2025) EndedAt: 2025-11-11 02:01:00 -0000 (Tue, 11 Nov 2025) EllapsedTime: 8.0 seconds RetCode: 0 Status: OK PackageFile: GEOsubmission_1.62.0.tar.gz PackageFileSize: 186.5 KiB