Package: GEOsubmission Version: 1.62.0 Command: /home/biocbuild/bbs-3.22-bioc/R/bin/R CMD check --install=check:GEOsubmission.install-out.txt --library=/home/biocbuild/bbs-3.22-bioc/R/site-library --timings GEOsubmission_1.62.0.tar.gz StartedAt: 2025-11-12 00:05:25 -0500 (Wed, 12 Nov 2025) EndedAt: 2025-11-12 00:05:53 -0500 (Wed, 12 Nov 2025) EllapsedTime: 28.0 seconds RetCode: 0 Status: OK CheckDir: GEOsubmission.Rcheck Warnings: 0