Package: GEOsubmission Version: 1.60.0 Command: /Library/Frameworks/R.framework/Resources/bin/R CMD INSTALL GEOsubmission StartedAt: 2025-09-25 15:21:39 -0400 (Thu, 25 Sep 2025) EndedAt: 2025-09-25 15:21:48 -0400 (Thu, 25 Sep 2025) EllapsedTime: 8.6 seconds RetCode: 0 Status: OK